BEGIN:VCALENDAR
VERSION:2.0
PRODID:-//Nicollet County Historical Society - ECPv6.15.20//NONSGML v1.0//EN
CALSCALE:GREGORIAN
METHOD:PUBLISH
X-ORIGINAL-URL:https://www.nchsmn.org
X-WR-CALDESC:Events for Nicollet County Historical Society
REFRESH-INTERVAL;VALUE=DURATION:PT1H
X-Robots-Tag:noindex
X-PUBLISHED-TTL:PT1H
BEGIN:VTIMEZONE
TZID:America/Chicago
BEGIN:DAYLIGHT
TZOFFSETFROM:-0600
TZOFFSETTO:-0500
TZNAME:CDT
DTSTART:20220313T080000
END:DAYLIGHT
BEGIN:STANDARD
TZOFFSETFROM:-0500
TZOFFSETTO:-0600
TZNAME:CST
DTSTART:20221106T070000
END:STANDARD
BEGIN:DAYLIGHT
TZOFFSETFROM:-0600
TZOFFSETTO:-0500
TZNAME:CDT
DTSTART:20230312T080000
END:DAYLIGHT
BEGIN:STANDARD
TZOFFSETFROM:-0500
TZOFFSETTO:-0600
TZNAME:CST
DTSTART:20231105T070000
END:STANDARD
BEGIN:DAYLIGHT
TZOFFSETFROM:-0600
TZOFFSETTO:-0500
TZNAME:CDT
DTSTART:20240310T080000
END:DAYLIGHT
BEGIN:STANDARD
TZOFFSETFROM:-0500
TZOFFSETTO:-0600
TZNAME:CST
DTSTART:20241103T070000
END:STANDARD
END:VTIMEZONE
BEGIN:VEVENT
DTSTART;TZID=America/Chicago:20231109T140000
DTEND;TZID=America/Chicago:20231109T150000
DTSTAMP:20260420T164027
CREATED:20231024T141611Z
LAST-MODIFIED:20231107T185723Z
UID:10000269-1699538400-1699542000@www.nchsmn.org
SUMMARY:CANCELLED - Your Legacy: Family\, Church and Charity
DESCRIPTION:Are there people and organizations you care about and want to help financially? Learn strategies for leaving a legacy. \n\nExplore spontaneous\, intentional and strategic/planned giving.\nSee examples of people who have established legacy gift strategies.\nLearn about foundations for charitable giving.\n\nDuring the session\, we’ll also explore estate strategies and tools you need so your final wishes are clear.  \nThis workshop will be held at the Nicollet County Historical Society – Treaty Site History Center\, 1851 North Minnesota Avenue\, St Peter\, Minnesota on Thursday\, November 9th\, 2023 at 2:00 p.m. It’s hosted by Patti J Kelly\, FIC\, CLTC® and Chanelle E Braekkan\, FIC\, RICP®\, CLTC®. \nPlease call 507-934-0997 or email patti.kelly@thrivent.com to reserve a place for yourself and a guest.  \nLight hors d’oeuvres will be served. \nNo products will be sold.  \nThrivent and its financial advisors and professionals do not provide legal\, accounting or tax advice. Consult your attorney or tax professional.  \nFor more information visit thrivent.com/social
URL:https://www.nchsmn.org/event/your-legacy-family-church-and-charity/
LOCATION:Nicollet County Historical Society – Treaty Site History Center\, 1851 N. Minnesota Avenue\, Saint Peter\, MN\, 56082\, United States
CATEGORIES:Lectures & Workshops
ATTACH;FMTTYPE=image/png:https://www.nchsmn.org/wp-content/uploads/2023/10/canceled.png
ORGANIZER;CN="Patti Kelly - Thrivent":MAILTO:patti.kelly@thrivent.com
END:VEVENT
END:VCALENDAR