BEGIN:VCALENDAR
VERSION:2.0
PRODID:-//Nicollet County Historical Society - ECPv6.15.20//NONSGML v1.0//EN
CALSCALE:GREGORIAN
METHOD:PUBLISH
X-ORIGINAL-URL:https://www.nchsmn.org
X-WR-CALDESC:Events for Nicollet County Historical Society
REFRESH-INTERVAL;VALUE=DURATION:PT1H
X-Robots-Tag:noindex
X-PUBLISHED-TTL:PT1H
BEGIN:VTIMEZONE
TZID:America/Chicago
BEGIN:DAYLIGHT
TZOFFSETFROM:-0600
TZOFFSETTO:-0500
TZNAME:CDT
DTSTART:20230312T080000
END:DAYLIGHT
BEGIN:STANDARD
TZOFFSETFROM:-0500
TZOFFSETTO:-0600
TZNAME:CST
DTSTART:20231105T070000
END:STANDARD
BEGIN:DAYLIGHT
TZOFFSETFROM:-0600
TZOFFSETTO:-0500
TZNAME:CDT
DTSTART:20240310T080000
END:DAYLIGHT
BEGIN:STANDARD
TZOFFSETFROM:-0500
TZOFFSETTO:-0600
TZNAME:CST
DTSTART:20241103T070000
END:STANDARD
BEGIN:DAYLIGHT
TZOFFSETFROM:-0600
TZOFFSETTO:-0500
TZNAME:CDT
DTSTART:20250309T080000
END:DAYLIGHT
BEGIN:STANDARD
TZOFFSETFROM:-0500
TZOFFSETTO:-0600
TZNAME:CST
DTSTART:20251102T070000
END:STANDARD
END:VTIMEZONE
BEGIN:VEVENT
DTSTART;TZID=America/Chicago:20240404T140000
DTEND;TZID=America/Chicago:20240404T150000
DTSTAMP:20260424T075231
CREATED:20231129T225558Z
LAST-MODIFIED:20231129T225558Z
UID:10000273-1712239200-1712242800@www.nchsmn.org
SUMMARY:Film Series | New Eye on the Universe
DESCRIPTION:In July 2022\, NASA’s James Webb Space Telescope released its first images\, looking further back in time than ever before to show our universe in stunningly beautiful detail. But that was just the beginning: With tons of new data and spectacular images flooding in\, Webb is allowing scientists to peer deep in time to try to answer some of astronomy’s biggest questions. When – and how – did the first stars and galaxies form? And can we see the fingerprints of life in the atmospheres of distant worlds–or even within our own solar system? 54 minutes. NR \n<<WATCH THE TRAILER>> \nThe Nicollet County Historical Society and Saint Peter Community and Family Education present our fifteenth season of documentary films! The public is welcome to join us for these free films at the Treaty Site History Center.
URL:https://www.nchsmn.org/event/film-series-new-eye-on-the-universe/
LOCATION:Nicollet County Historical Society – Treaty Site History Center\, 1851 N. Minnesota Avenue\, Saint Peter\, MN\, 56082\, United States
CATEGORIES:Film
ATTACH;FMTTYPE=image/png:https://www.nchsmn.org/wp-content/uploads/2023/11/DFS-UNIVERSE.png
ORGANIZER;CN="Nicollet County Historical Society":MAILTO:info@nchsmn.org
END:VEVENT
BEGIN:VEVENT
DTSTART;TZID=America/Chicago:20240411T140000
DTEND;TZID=America/Chicago:20240411T150000
DTSTAMP:20260424T075231
CREATED:20240201T222919Z
LAST-MODIFIED:20240201T222920Z
UID:10000306-1712844000-1712847600@www.nchsmn.org
SUMMARY:Author Talk with Cindy Wilson: Vignettes from my Books Featuring the St. Peter area\, 1879-1881
DESCRIPTION:Wilson will introduce us to the amazing family of railroad surveyor Charles Wood Irish\, along with stories from her new book that have an area connection. Her talk will then talk about the Hard Winter of 1880-81\, centered on Nicollet County. Join us for this engaging talk! \nCost to attend is $7.00 per adult and $5.00 per NCHS member.
URL:https://www.nchsmn.org/event/author-talk-with-cindy-wilson/
LOCATION:Nicollet County Historical Society – Treaty Site History Center\, 1851 N. Minnesota Avenue\, Saint Peter\, MN\, 56082\, United States
CATEGORIES:Lectures & Workshops
ATTACH;FMTTYPE=image/png:https://www.nchsmn.org/wp-content/uploads/2024/02/AUTHOR-TALK-411.png
ORGANIZER;CN="Nicollet County Historical Society":MAILTO:info@nchsmn.org
END:VEVENT
BEGIN:VEVENT
DTSTART;TZID=America/Chicago:20240422T163000
DTEND;TZID=America/Chicago:20240422T180000
DTSTAMP:20260424T075231
CREATED:20240422T173111Z
LAST-MODIFIED:20240422T173111Z
UID:10000278-1713803400-1713808800@www.nchsmn.org
SUMMARY:NCHS Board of Directors meeting
DESCRIPTION:The public is invited to join the meeting of the Nicollet County Historical Society Board of Directors. Materials are available at the meeting or upon request. \n 
URL:https://www.nchsmn.org/event/notice-board-of-directors-meeting-2/
LOCATION:Nicollet County Historical Society – Treaty Site History Center\, 1851 N. Minnesota Avenue\, Saint Peter\, MN\, 56082\, United States
CATEGORIES:Meeting
ATTACH;FMTTYPE=image/png:https://www.nchsmn.org/wp-content/uploads/2021/09/BOARD-WEB.png
ORGANIZER;CN="Nicollet County Historical Society":MAILTO:info@nchsmn.org
END:VEVENT
BEGIN:VEVENT
DTSTART;TZID=America/Chicago:20240423T170000
DTEND;TZID=America/Chicago:20240423T190000
DTSTAMP:20260424T075231
CREATED:20240327T185718Z
LAST-MODIFIED:20240423T183034Z
UID:10000308-1713891600-1713898800@www.nchsmn.org
SUMMARY:NCHS ANNUAL MEETING
DESCRIPTION:NCHS Annual Meeting\nTuesday\, April 23\, 2024\n5:00-7:00 p.m.\nRSVPs are requested by April 19\, 2024 \nDoors open at 5:00 p.m.\nBusiness Meeting starts at 5:30 p.m.\nProgram tentatively scheduled for 6:00 p.m. \nThe meeting is open to the public. There is no cost to attend. Light refreshments will be provided. \n<<DOWNLOAD MEETING MATERIALS>> \nSpecial Guest Speaker\nRachael Hanel \nGain a deeper understanding of Camilla Hall\, a Saint Peter resident whose notoriety stems from her association with the Symbionese Liberation Army. \nTo accompany Hanel’s talk\, the exhibit More Than a Headline: A Closer Look at the Art and Life of Camilla Hall is on display at the meeting. It showcases several of Camilla’s prints and provides an overview of Camilla’s life—from her girlhood in St. Peter to her move to Minneapolis\, Los Angeles\, and ultimately to Berkeley\, where her fate was sealed. \n 
URL:https://www.nchsmn.org/event/nchs-annual-meeting-2023/
LOCATION:Nicollet County Historical Society – Treaty Site History Center\, 1851 N. Minnesota Avenue\, Saint Peter\, MN\, 56082\, United States
CATEGORIES:Meeting
ATTACH;FMTTYPE=image/png:https://www.nchsmn.org/wp-content/uploads/2024/03/ANNUAL-MEETING-EVENT-HEADER.png
ORGANIZER;CN="Nicollet County Historical Society":MAILTO:info@nchsmn.org
END:VEVENT
END:VCALENDAR